BEGIN:VCALENDAR
VERSION:2.0
PRODID:-//IP.Board Calendar 4.6.9//EN
METHOD:PUBLISH
CALSCALE:GREGORIAN
X-WR-CALNAME:Календарь сообщества
BEGIN:VTIMEZONE
TZID:Europe/London
TZURL:http://tzurl.org/zoneinfo/Europe/London
X-LIC-LOCATION:Europe/London
BEGIN:DAYLIGHT
TZOFFSETFROM:+0000
TZOFFSETTO:+0100
TZNAME:BST
DTSTART:20160327T020000Z
RRULE:FREQ=YEARLY;BYMONTH=3;BYDAY=-1SU
END:DAYLIGHT
BEGIN:STANDARD
TZOFFSETFROM:+0100
TZOFFSETTO:+0000
TZNAME:GMT
DTSTART:20161030T020000Z
RRULE:FREQ=YEARLY;BYMONTH=10;BYDAY=-1SU
END:STANDARD
END:VTIMEZONE
BEGIN:VEVENT
SUMMARY:10 лет форуму
DTSTAMP:20160326T202819Z
SEQUENCE:0
UID:9-1-45e8b5e3fe85922a1446e88975701be2@forumms.ru
ORGANIZER;CN="Ипатов О.Ю.":i@forumms.ru
DESCRIPTION:\n	В этом году форум
	у исполняется 10 лет. Он был создан 20.08.2006\n
DTSTART:20160819T200000Z
DTEND:20160819T200000Z
END:VEVENT
END:VCALENDAR
